BEGIN:VCALENDAR
VERSION:2.0
PRODID:-//wp-events-plugin.com//7.2.3.1//EN
TZID:Europe/Berlin
X-WR-TIMEZONE:Europe/Berlin
BEGIN:VEVENT
UID:116@viennabuddhafield.com
DTSTART;TZID=Europe/Vienna;VALUE=DATE:20260111
DTEND;TZID=Europe/Vienna;VALUE=DATE:20260420
DTSTAMP:20260216T090307Z
URL:https://viennabuddhafield.com/events/archetyp-bundle/
SUMMARY:Archetyp Bundle
DESCRIPTION:Eine Reise zu dir selbst – in Verbindung mit anderen Frauen.
  \nIn acht Women Circles tauchen wir gemeinsam in die Archetypen der Weib
 lichkeit ein.\nMit Embodiment\, Reflexion und Begegnung erforschst du\, we
 lche Seiten von dir bereits sehr viel Raum einnehmen und welche Aspekte du
  noch neu entdecken darfst.\nVon Januar bis April 2026\nOnline · Gemeinsa
 m · Transformierend\nAll info 
ATTACH;FMTTYPE=image/jpeg:https://viennabuddhafield.com/wp-content/uploads
 /57-Am_Himmel-57-edited.jpg
LOCATION:https://lingoda.zoom.us/j/6438841395?pwd=SnlGUUp1SGdrYW1oTzZkb2I3V
 3Vadz09
END:VEVENT
BEGIN:VTIMEZONE
TZID:Europe/Vienna
X-LIC-LOCATION:Europe/Vienna
BEGIN:STANDARD
DTSTART:20251026T020000
TZOFFSETFROM:+0200
TZOFFSETTO:+0100
TZNAME:CET
END:STANDARD
BEGIN:DAYLIGHT
DTSTART:20260329T030000
TZOFFSETFROM:+0100
TZOFFSETTO:+0200
TZNAME:CEST
END:DAYLIGHT
END:VTIMEZONE
END:VCALENDAR