BEGIN:VCALENDAR
VERSION:2.0
PRODID:-//wp-events-plugin.com//7.2.3.1//EN
TZID:Europe/Berlin
X-WR-TIMEZONE:Europe/Berlin
BEGIN:VEVENT
UID:539@viennabuddhafield.com
DTSTART;TZID=Europe/Berlin:20260501T170000
DTEND;TZID=Europe/Berlin:20260501T210000
DTSTAMP:20260330T124715Z
URL:https://viennabuddhafield.com/events/aum-meditation-vienna-4/
SUMMARY:AUM Meditation Vienna
DESCRIPTION:\n&nbsp\;\n✨ Ein Tag voller Energie\, Frieden und Transformat
 ion ✨\nIn einer Welt voller Konflikte und Spannungen ist Frieden mehr de
 nn je gefragt.\nDoch wahrer Frieden beginnt in uns selbst.\nDie AUM Medita
 tion lädt dich ein\, durch 13 kraftvolle Phasen von Wut\, Trauer\, Freude
 \, Liebe bis hin zu tiefer Stille zu gehen – und all das zu fühlen\, wa
 s oft im Alltag keinen Platz hat.\nWenn wir lernen\, mit unseren eigenen G
 efühlen in Frieden zu sein\, öffnen wir den Raum für mehr Verständnis\
 , Mitgefühl und Verbindung im Außen.\nWarum teilnehmen?\n\n	\nErlebe inn
 eren Frieden – auch wenn starke Gefühle auftauchen\n\n	\nBefreie dich v
 on Spannungen und tanke neue Energie\n\n	\nTrainiere deine emotionale Flex
 ibilität wie im Fitnessstudio für dein Herz\n\n	\nBegegne dir selbst und
  anderen klar\, authentisch und voller Mitgefühl\n\n\n✨ Melde Dich jetz
 t an und sichere Dir Deinen Platz für diese unvergessliche Reise!\n[divid
 er height="60" style="default" line="default" color="" themecolor="0"]\nAU
 M - Awareness-Understanding-Meditation\nDie AUM ist ein intensives emotion
 ales und körperliches Workout\, das zu tiefer Stille führt. Sie dauert 2
 \,5 Stunden\, ist ein Gruppenerlebnis und lässt dich gut geführt alle we
 sentlichen Emotionen erleben und ausdrücken. Die Entspannung\, die danach
  folgt\, ist der Boden für eine entspannte und stille Meditation. \nDie 
 AUM ist keine Meditation im klassischen Sinne\, kein Ersatz für Therapie 
 und auch kein Heilungsversprechen. Sie ist vielmehr eine Einladung und Hil
 festellung sich mit all seinen Anteilen zu zeigen\, sich voll und ganz zu 
 spüren und alle Aspekte des Lebens und seines "So Seins" anzunehmen und d
 as Ganze auch wieder gehen zu lassen.\n[divider height="60" style="defau
 lt" line="default" color="" themecolor="0"]\nLesen Sie hier mehr darüber\
 nMitzubringen:\n\n	Trinkflasche\n	Lockere Kleidung\, in der ihr auch Yoga 
 machen würdet\n	Wechselkleidung für danach\n	Handtuch\n\n\n&nbsp\;\nIm A
 bschluss an die AUM möchten wir mit euch gerne ein Gemeinschaftsbuffet an
 richten. Bringt dazu gerne mit\, worauf ihr selbst Lust habt und was für 
 euch einfach zuzubereiten ist.\nWasser und Tee stellen wir vor Ort bereit.
 \nDieses soziale Event eignet sich besonders gut gemeinsam mit euren Freun
 den und Bekannten zu teilen\, da ihr euch dadurch gegenseitig auf dieser R
 eise begleiten und auf einer noch tieferen Ebene begegnen könnt.\nWir fre
 uen uns aus ganzem Herzen auf eine gemeinsame transformierende Reise mit E
 uch!\nLeitung von Vadano (Deutsch) und Yogi (Englisch)\n\nSichere Dir den 
 Rabatt von 20% durch gemeinsame Anmeldung für dich und einen Freund/in.\n
 ***Use coupon code: BRINGAFRIEND ***\n***gültig ab 2 oder mehr Tickets***
 \n&nbsp\;\nFOR ANY QUESTION - CONTACT YOGI\nlevyogi@gmail.com\nor on Whats
 app \n&nbsp\;\nAUM After Glow „Tantric Spring Flowering“ mit Vadano\n
 Samstag 2.5. von 14:00 bis 17:00\nWo: Therapiezentrum Hyrtlgasse\, 1160\, 
 Hyrtlgasse 12\nWorkshopbeitrag: 20.-\nDieser Workshop ist dazu konzipiert\
 , die Erfahrungen der AUM am Vortag mit sanften Übungen zu integrieren. D
 ie Übungen beinhalten Body-Awareness\, Atem\, Sensitivity und sanfte Ber
 ührung.
ATTACH;FMTTYPE=image/jpeg:https://viennabuddhafield.com/wp-content/uploads
 /Untitled-design.jpg
CATEGORIES:Featured
LOCATION:Salon Sechshaus\, Sechshauser Straße 48/1/2\, Wien\, 1150\, Öste
 rreich
GEO:48.187842;16.331604
X-APPLE-STRUCTURED-LOCATION;VALUE=URI;X-ADDRESS=Sechshauser Straße 48/1/2\
 , Wien\, 1150\, Österreich;X-APPLE-RADIUS=100;X-TITLE=Salon Sechshaus:geo
 :48.187842,16.331604
END:VEVENT
BEGIN:VTIMEZONE
TZID:Europe/Berlin
X-LIC-LOCATION:Europe/Berlin
BEGIN:DAYLIGHT
DTSTART:20260329T030000
TZOFFSETFROM:+0100
TZOFFSETTO:+0200
TZNAME:CEST
END:DAYLIGHT
END:VTIMEZONE
END:VCALENDAR