BEGIN:VCALENDAR
VERSION:2.0
PRODID:-//wp-events-plugin.com//7.2.3.1//EN
TZID:Europe/Berlin
X-WR-TIMEZONE:Europe/Berlin
BEGIN:VEVENT
UID:153@viennabuddhafield.com
DTSTART;TZID=Europe/Vienna:20251108T100000
DTEND;TZID=Europe/Vienna:20251108T160000
DTSTAMP:20251024T170042Z
URL:https://viennabuddhafield.com/events/osho-active-meditation-day/
SUMMARY:OSHO Active Meditation Day
DESCRIPTION:OSHO Active Meditation Day\n\nTauche ein in einen Tag\, an dem 
 du dich selbst durch den Körper\, den Atem und die Bewegung erfährst.\nI
 n diesen drei Aktiven OSHO Meditationen kannst du Spannungen loslassen\, E
 motionen ausdrücken und deine Lebensenergie befreien.\nAnstatt zu versuch
 en\, still zu werden – du bewegst dich in die Stille hinein.\nWenn der K
 örper sich schüttelt\, tanzt\, atmet\,\nwird der Geist klar\, das Herz w
 eich und die Stille geschieht von selbst.\nEin Tag\, um dich zu spüren\, 
 dich zu befreien und wieder mit deiner Lebendigkeit in Kontakt zu kommen.\
 nKomme\, wie du bist – keine Vorkenntnisse nötig.\n \n 10:00 — OSHO
  Chakra Breathing Meditation\n\nEine dynamische Morgenmeditation mit tiefe
 m\, schnellem Atem und Körperbewegung\, um die sieben Chakren zu öffnen 
 und zu aktivieren.\nSpüre\, wie sich die Lebensenergie vom Wurzel- bis zu
 m Kronenchakra erhebt und Bewusstheit sowie Stille in jedes Energiezentrum
  bringt.\n11:30 — OSHO Nadabrahma Meditation\nEine sanfte Summ-Meditatio
 n\, die Körper und Geist in Einklang bringt.\nDurch Klang und feine Handb
 ewegungen entsteht Balance zwischen Geben und Nehmen – Frieden und Still
 e werden erlebbar.\nDiese Meditation stammt aus einer alten tibetischen Tr
 adition und wird am besten mit nüchternem Magen praktiziert.\n13:00 — G
 emeinschaftliches Mittagessen\nWir teilen ein einfaches\, herzliches Potlu
 ck-Mittagessen – bring gerne etwas mit\, das du magst und teilen möchte
 st.\n 14:00 — OSHO Kundalini Meditation\nEine beliebte Abendmeditation 
 – oft die „Schwester der Dynamischen Meditation“ genannt.\nSchüttle
 \, tanze und fließe in die Stille.\nDiese Meditation hilft dir\, den Tag 
 abzuschütteln\, neue Energie zu spüren und tief zu entspannen.\n\nIm Ans
 chluss laden wir zu einem kurzen Sharing-Kreis ein\, um das Erlebte zu int
 egrieren und miteinander zu teilen.\n Was du mitbringen solltest\n\n	Bequ
 eme Kleidung\n	Eine Wasserflasche\n	Etwas Kleines für unser gemeinsames P
 otluck-Mittagessen\n\n\nLeitung\nDie Meditationen werden von Yogi Levy gel
 eitet – Facilitator für aktive und soziale Meditationen\, Yoga und emot
 ionale Bewusstseinsarbeit.\nSeine Arbeit ist geprägt von Präsenz\, Wärm
 e und Tiefe.\nThe facilitation will be in English.\n Anmeldung\nDu kannst
  an einzelnen Meditationen teilnehmen oder den ganzen Tag erleben.\nDie Pl
 ätze sind begrenzt – melde dich jetzt an und sichere dir deinen Platz!\
 n \n \n„Meditation ist keine Handlung\, die du tust – sie ist ein Zu
 stand des Seins\, den du zulässt.“\n— Osho
ATTACH;FMTTYPE=image/jpeg:https://viennabuddhafield.com/wp-content/uploads
 /ChatGPT-Image-Oct-24-2025-11_15_02-AM.png
CATEGORIES:Featured
LOCATION:Therapiezentrum Hyrtlgasse\, Hyrtlgasse 12\, Vienna\, Österreich
GEO:48.206843;16.326244
X-APPLE-STRUCTURED-LOCATION;VALUE=URI;X-ADDRESS=Hyrtlgasse 12\, Vienna\, Ö
 sterreich;X-APPLE-RADIUS=100;X-TITLE=Therapiezentrum Hyrtlgasse:geo:48.206
 843,16.326244
END:VEVENT
BEGIN:VTIMEZONE
TZID:Europe/Vienna
X-LIC-LOCATION:Europe/Vienna
BEGIN:STANDARD
DTSTART:20251026T020000
TZOFFSETFROM:+0200
TZOFFSETTO:+0100
TZNAME:CET
END:STANDARD
END:VTIMEZONE
END:VCALENDAR