BEGIN:VCALENDAR
VERSION:2.0
PRODID:-//wp-events-plugin.com//7.2.3.1//EN
TZID:Europe/Berlin
X-WR-TIMEZONE:Europe/Berlin
BEGIN:VEVENT
UID:535@viennabuddhafield.com
DTSTART;TZID=Europe/Vienna:20260503T183000
DTEND;TZID=Europe/Vienna:20260503T203000
DTSTAMP:20260104T205542Z
URL:https://viennabuddhafield.com/events/osho-evening-meditaton-2-2026-02-
 15-2026-03-22-2026-04-12-2026-05-03/
SUMMARY:OSHO Evening Meditaton
DESCRIPTION:‍♂️ OSHO Evening Meeting – Jeden Sonntagabend in Wien\n
 Zeit für dich. Zeit für Stille. Zeit für Ekstase.\nJeden Sonntag um 18:
 30 laden wir dich ein zur OSHO Evening Meeting Meditation im Vienna Buddha
  Field. Eine einzigartige Erfahrung aus Musik\, Tanz\, Stille und Tiefe 
 – inspiriert direkt von Osho.\nWas erwartet dich?\nDie Meditation beginn
 t mit 20 Minuten ekstatischem Tanz zu kraftvoller Musik – ein wilder Aus
 druck deiner Lebensenergie. Währenddessen rufen wir gemeinsam mehrmals 
 „OSHO“ – ein bedeutungsloser Laut\, der uns in die stille Klanglosig
 keit führt. Lass deinen Schrei aus dem Bauch kommen – wie ein Löwe!\nA
 nschließend folgt eine stille Sitzmeditation mit Live-Video von Osho – 
 seine Worte sind kein Vortrag\, sondern eine Einladung zur Präsenz. Die u
 nerwarteten Pausen in seiner Rede sind wie Lücken in der Zeit – Türen 
 zur Meditation.\nNach dem Vortrag: Gibberish &amp\; Let-Go\nSprich für ei
 n paar Minuten eine Sprache\, die du nicht kennst – sinnlose Laute\, vol
 ler Energie! Danach: völlige Stille. Und dann: Lass dich einfach fallen. 
 In den Boden. In dich. In den Moment.\nDie Meditation endet in Stille... u
 nd in freudigem Tanz.\nOrt: Vienna Buddha Field (Hyrtlgasse 12\, 1160 WIEN
 )\nWann: Jeden Sonntag\, 18:00–20:90\nBeitrag: Spendenbasis oder 10€ e
 mpfohlen\nAnmeldung: viennabuddhafield.com\n\n✨ „Diese wenigen Minuten
  am Abend sind die wertvollsten deines Lebens.“ – Osho\nKomm wie du bi
 st. Sei bereit für das\, was größer ist als Worte.\n#Meditation #OshoVi
 enna #LetGo #Stille #DanceIntoSilence
ATTACH;FMTTYPE=image/jpeg:https://viennabuddhafield.com/wp-content/uploads
 /OSHO-Evening-Meeting_0.jpg
LOCATION:Therapiezentrum Hyrtlgasse\, Hyrtlgasse 12\, Vienna\, Österreich
GEO:48.206843;16.326244
X-APPLE-STRUCTURED-LOCATION;VALUE=URI;X-ADDRESS=Hyrtlgasse 12\, Vienna\, Ö
 sterreich;X-APPLE-RADIUS=100;X-TITLE=Therapiezentrum Hyrtlgasse:geo:48.206
 843,16.326244
END:VEVENT
BEGIN:VTIMEZONE
TZID:Europe/Vienna
X-LIC-LOCATION:Europe/Vienna
BEGIN:DAYLIGHT
DTSTART:20260329T030000
TZOFFSETFROM:+0100
TZOFFSETTO:+0200
TZNAME:CEST
END:DAYLIGHT
END:VTIMEZONE
END:VCALENDAR