BEGIN:VCALENDAR
VERSION:2.0
PRODID:-//wp-events-plugin.com//7.2.3.1//EN
TZID:Europe/Berlin
X-WR-TIMEZONE:Europe/Berlin
BEGIN:VEVENT
UID:545@viennabuddhafield.com
DTSTART;TZID=Europe/Vienna:20260502T140000
DTEND;TZID=Europe/Vienna:20260502T170000
DTSTAMP:20260331T135617Z
URL:https://viennabuddhafield.com/events/tantric-spring-flowering/
SUMMARY:Tantric Spring Flowering
DESCRIPTION:AUM After Glow Workshop „Tantric Spring Flowering“ mit Vada
 no\nSamstag 2.5. von 14:00 bis 17:00\nWo: Therapiezentrum Hyrtlgasse\, 116
 0\, Hyrtlgasse 12\nWorkshopbeitrag: 25.- / Student*innen 50 %\nDieser Work
 shop ist dazu konzipiert\, die Erfahrungen der AUM am Vortag mit sanften 
 Übungen zu integrieren.\nDie Übungen beinhalten Body-Awareness\, Atem\, 
 Sensitivity und sanfte Berührung.
ATTACH;FMTTYPE=image/jpeg:https://viennabuddhafield.com/wp-content/uploads
 /polyamorous-couple-home-bed-scaled.jpg
CATEGORIES:Featured
LOCATION:Therapiezentrum Hyrtlgasse\, Hyrtlgasse 12\, Vienna\, Österreich
GEO:48.206843;16.326244
X-APPLE-STRUCTURED-LOCATION;VALUE=URI;X-ADDRESS=Hyrtlgasse 12\, Vienna\, Ö
 sterreich;X-APPLE-RADIUS=100;X-TITLE=Therapiezentrum Hyrtlgasse:geo:48.206
 843,16.326244
END:VEVENT
BEGIN:VTIMEZONE
TZID:Europe/Vienna
X-LIC-LOCATION:Europe/Vienna
BEGIN:DAYLIGHT
DTSTART:20260329T030000
TZOFFSETFROM:+0100
TZOFFSETTO:+0200
TZNAME:CEST
END:DAYLIGHT
END:VTIMEZONE
END:VCALENDAR